BEGIN:VCALENDAR
VERSION:2.0
PRODID:-//Ahven.net - ECPv6.15.20//NONSGML v1.0//EN
CALSCALE:GREGORIAN
METHOD:PUBLISH
X-WR-CALNAME:Ahven.net
X-ORIGINAL-URL:https://ahven.net
X-WR-CALDESC:Tapahtumat Ahven.net
REFRESH-INTERVAL;VALUE=DURATION:PT1H
X-Robots-Tag:noindex
X-PUBLISHED-TTL:PT1H
BEGIN:VTIMEZONE
TZID:Europe/Helsinki
BEGIN:DAYLIGHT
TZOFFSETFROM:+0200
TZOFFSETTO:+0300
TZNAME:EEST
DTSTART:20250330T010000
END:DAYLIGHT
BEGIN:STANDARD
TZOFFSETFROM:+0300
TZOFFSETTO:+0200
TZNAME:EET
DTSTART:20251026T010000
END:STANDARD
BEGIN:DAYLIGHT
TZOFFSETFROM:+0200
TZOFFSETTO:+0300
TZNAME:EEST
DTSTART:20260329T010000
END:DAYLIGHT
BEGIN:STANDARD
TZOFFSETFROM:+0300
TZOFFSETTO:+0200
TZNAME:EET
DTSTART:20261025T010000
END:STANDARD
BEGIN:DAYLIGHT
TZOFFSETFROM:+0200
TZOFFSETTO:+0300
TZNAME:EEST
DTSTART:20270328T010000
END:DAYLIGHT
BEGIN:STANDARD
TZOFFSETFROM:+0300
TZOFFSETTO:+0200
TZNAME:EET
DTSTART:20271031T010000
END:STANDARD
END:VTIMEZONE
BEGIN:VEVENT
DTSTART;VALUE=DATE:20260424
DTEND;VALUE=DATE:20260427
DTSTAMP:20260424T013342
CREATED:20190125T103354Z
LAST-MODIFIED:20260212T071807Z
UID:4740-1776988800-1777247999@ahven.net
SUMMARY:Tampereen Kalamarkkinat 24.-26.4.2026
DESCRIPTION:Tarkasta ajantasaiset tiedot markkinoiden nettisivuilta: Tampereen kalamarkkinat  \nKevään 2026 Tampereen kalamarkkinat pidetään Laukontorilla 24.-26.4.2026. \nKalatuotteiden myynti on keskitetty torialueelle ja oheistuotteet ovat reuna-alueilla. Tarjolla on tuoretta kalaa\, uunituoretta savu- ja loimukalaa\, kalahampurilaisia\, kalakukkoja\, paistettuja silakoita\, muikkuja\, kirjolohia ja lohia\, säilykkeitä sekä tietenkin perinteisiä ammattikalastajien silakkatuotteita. Mukana on myös muita saaristolaistuotteita mm. tyrnimehua\, saaristolaisleipää jne. \nTampereen Kalamarkkinat ovat saavuttaneet yleisön kiistattoman suosion. Suomen ensimmäiset kalamarkkinat pidettiin Tampereella vuonna 1991 Laukontorilla. Siitä lähtien kymmenet tuhannet markkinavieraat ovat tutustuneet uusiin makuelämyksiin kaksi kertaa vuodessa järjestettävässä tapahtumassamme. \nPerinteikäs tapahtuma on myös erittäin ajankohtainen foorumi lähiruoan ja ilmastoahdistuksen ollessa tapetilla. Kalamarkkinat houkuttelevat toista sataa yrittäjää eri puolilta Suomea tarjoamaan monipuolisia kala- ja erätuotteita\, ruoka-annoksia\, elintarvikkeita ja käsitöitä markkinaväelle. \nJärjestäjä: Pirkanmaan Kalatalouskeskus
URL:https://ahven.net/tapahtuma/tampereen-kalamarkkinat/
LOCATION:Laukontori\, Tampere\, Suomi
CATEGORIES:Kalamarkkinat
ATTACH;FMTTYPE=image/png:https://ahven.net/wp-content/uploads/2019/01/Tampereen-kalamarkkinat_2026_png.png
ORGANIZER;CN="Pirkanmaan Kalatalouskeskus":MAILTO:pirkanmaan.kalatalouskeskus@kalatalo.fi
END:VEVENT
END:VCALENDAR